BEGIN:VCALENDAR
VERSION:2.0
PRODID:-//wp-events-plugin.com//7.1.7//EN
TZID:Europe/Paris
X-WR-TIMEZONE:Europe/Paris
BEGIN:VEVENT
UID:1251@culture-zatous.com
DTSTART;TZID=Europe/Paris:20260505T203000
DTEND;TZID=Europe/Paris:20260505T220000
DTSTAMP:20250718T081727Z
URL:http://culture-zatous.com/?event=zajj
SUMMARY:ZAJJ
DESCRIPTION:Un studio de radio désuet et décrépit\, des instruments part
 out. C’est le début de l’émission musicale : « Voyage aux Pays du J
 azz »\,exceptionnellement enregistrée en direct\, pour vous aujourd’hu
 i.\n\nPanique à bord !\n\nUn tantinet gougnafiers\, les présentateurs ra
 tent et dérapent avec une intensité toujours plus grande… Et nous voil
 à embarqués dans une clownerie virtuose déferlante de musique et de mal
 adresses. Une fabuleuse histoire de l’histoire du jazz ludique et excent
 rique\, tourbillonnante de gags et cascades. Bien déjanté.
ATTACH;FMTTYPE=image/jpeg:http://culture-zatous.com/wp-content/uploads/202
 5/07/29_Zzaj-©Joris-Allardon.jpg
CATEGORIES:Théâtre musical
LOCATION:Salle SolenVal\, 33 Rue de la Madeleine\, Plancoët\, 22130 \, Fra
 nce
X-APPLE-STRUCTURED-LOCATION;VALUE=URI;X-ADDRESS=33 Rue de la Madeleine\, Pl
 ancoët\, 22130 \, France;X-APPLE-RADIUS=100;X-TITLE=Salle SolenVal:geo:0,
 0
END:VEVENT
BEGIN:VTIMEZONE
TZID:Europe/Paris
X-LIC-LOCATION:Europe/Paris
BEGIN:DAYLIGHT
DTSTART:20260329T030000
TZOFFSETFROM:+0100
TZOFFSETTO:+0200
TZNAME:CEST
END:DAYLIGHT
END:VTIMEZONE
END:VCALENDAR