BEGIN:VCALENDAR
VERSION:2.0
PRODID:-//wp-events-plugin.com//7.1.7//EN
TZID:Europe/Paris
X-WR-TIMEZONE:Europe/Paris
BEGIN:VEVENT
UID:1252@culture-zatous.com
DTSTART;TZID=Europe/Paris:20260513T203000
DTEND;TZID=Europe/Paris:20260513T213000
DTSTAMP:20250718T082003Z
URL:http://culture-zatous.com/?event=welcome
SUMMARY:WELCOME
DESCRIPTION:Trio troublant où corps et voix se dissocient\, dialoguent et 
 s’entremêlent grâce à la magie de la ventriloquie.\n\nHabillés de to
 ps jaune poussin à col cheminée\, les yeux écarquillés et le visage im
 passible\, ils babillent à la façon charmante et discrète de la bourgeo
 isie.\n\nIls commentent la bonne société en déployant une micro-danse a
 bsurde.\n\nNous restons suspendus à leurs lèvres immobiles\, saisis par 
 un suspense fou et des dialogues foutraques : mais quel âge a Chantal ?
ATTACH;FMTTYPE=image/jpeg:http://culture-zatous.com/wp-content/uploads/202
 5/07/Welcome-©FestivalParallele_M.VendassiC.Tonnerre-scaled.jpg
CATEGORIES:Danse
LOCATION:Salle SolenVal\, 33 Rue de la Madeleine\, Plancoët\, 22130 \, Fra
 nce
X-APPLE-STRUCTURED-LOCATION;VALUE=URI;X-ADDRESS=33 Rue de la Madeleine\, Pl
 ancoët\, 22130 \, France;X-APPLE-RADIUS=100;X-TITLE=Salle SolenVal:geo:0,
 0
END:VEVENT
BEGIN:VTIMEZONE
TZID:Europe/Paris
X-LIC-LOCATION:Europe/Paris
BEGIN:DAYLIGHT
DTSTART:20260329T030000
TZOFFSETFROM:+0100
TZOFFSETTO:+0200
TZNAME:CEST
END:DAYLIGHT
END:VTIMEZONE
END:VCALENDAR