BEGIN:VCALENDAR
VERSION:2.0
PRODID:-//wp-events-plugin.com//7.1.7//EN
TZID:Europe/Paris
X-WR-TIMEZONE:Europe/Paris
BEGIN:VEVENT
UID:688@culture-zatous.com
DTSTART;TZID=Europe/Paris:20240531T000000
DTEND;TZID=Europe/Paris:20240831T000000
DTSTAMP:20240607T082445Z
URL:http://culture-zatous.com/?event=visite-de-la-maison-de-la-baie-a-hill
 ion
SUMMARY:Visite de la maison de la Baie à Hillion
DESCRIPTION:Découvrez la Maison de la Baie d'Hillion et ses expositions su
 r la patrimoine culturelle Briochin.\nLe musée est constitué de 7 parcou
 rs\, qui vous permettront de découvrir les fonds marins et les différent
 s paysages marins de notre territoire.\n\nLa visites peuvent se faire à t
 out moment\, à la date de votre choix. Les tickets seront envoyés après
  la validation de la réservation.
ATTACH;FMTTYPE=image/jpeg:http://culture-zatous.com/wp-content/uploads/202
 4/05/1d21b3a62e314953dd29dfdb2c489759-MaisonBaie-144-1000x710-1.jpg
CATEGORIES:Billetterie solidaire
LOCATION:Maison de la Baie\, site de l'Etoile\, Hillion\, France
X-APPLE-STRUCTURED-LOCATION;VALUE=URI;X-ADDRESS=site de l'Etoile\, Hillion\
 , France;X-APPLE-RADIUS=100;X-TITLE=Maison de la Baie:geo:0,0
END:VEVENT
BEGIN:VTIMEZONE
TZID:Europe/Paris
X-LIC-LOCATION:Europe/Paris
BEGIN:DAYLIGHT
DTSTART:20240331T030000
TZOFFSETFROM:+0100
TZOFFSETTO:+0200
TZNAME:CEST
END:DAYLIGHT
END:VTIMEZONE
END:VCALENDAR