BEGIN:VCALENDAR
VERSION:2.0
PRODID:-//wp-events-plugin.com//7.1.7//EN
TZID:Europe/Paris
X-WR-TIMEZONE:Europe/Paris
BEGIN:VEVENT
UID:1505@culture-zatous.com
DTSTART;TZID=Europe/Paris:20260510T170000
DTEND;TZID=Europe/Paris:20260510T183000
DTSTAMP:20251127T091735Z
URL:http://culture-zatous.com/?event=polypheme-wassim-halal-gamelan-puspaw
 arna
SUMMARY:POLYPHÈME WASSIM HALAL & GAMELAN PUSPAWARNA
DESCRIPTION:Musique polyrythmique contemporaine: Polyphème réunit huit me
 mbres du Gamelan Puspawarna et le percussionniste Wassim Halal. De cette r
 encontre fertile est né un répertoire original autour du rythme et du te
 mps\, mêlant compositions et improvisations. Porté par un dialogue audac
 ieux entre la darbuka et le gamelan balinais\, Polyphème développe une s
 uite musicale jalonnée de leitmotivs obsédants\, qui plongent l’audite
 ur dans un tourbillon sonore magnétique. Aux côtés de la darbuka\, l’
 ensemble révèle un potentiel nouveau de cet instrument collectif qu’es
 t le gamelan\, dans de nouvelles textures et des polyrythmies finement él
 aborées. Polyphème s’attache à unir des contraires : rigueur et liber
 té\, silence et intensité\, spontanéité et maîtrise. De cette alchimi
 e naît un dialogue inédit entre les éclats scintillants du gamelan bali
 nais de Puspawarna et les sonorités arabes de la darbuka de Wassim Halal.
  Propulsé par des envolées rythmiques aux variations hallucinatoires\, P
 olyphème trace un chemin sonore mouvant\, et ses leitmotivs hypnotiques d
 eviennent une passerelle entre les formes et\nles imaginaires.\n\nTout pub
 lic.\nDurée : 1h20\n\n[embedyt] https://www.youtube.com/watch?v=3lqw4VYI
 R4U[/embedyt]
ATTACH;FMTTYPE=image/jpeg:http://culture-zatous.com/wp-content/uploads/202
 5/11/polyphene.jpeg
CATEGORIES:Billetterie solidaire,Musique
LOCATION:ESPACE GLENMOR\, Kerampuilh rue Jean Monnet\, CARHAIX PLOUGUER\, F
 inistère\, 29270 \, France
X-APPLE-STRUCTURED-LOCATION;VALUE=URI;X-ADDRESS=Kerampuilh rue Jean Monnet\
 , CARHAIX PLOUGUER\, Finistère\, 29270 \, France;X-APPLE-RADIUS=100;X-TIT
 LE=ESPACE GLENMOR:geo:0,0
END:VEVENT
BEGIN:VTIMEZONE
TZID:Europe/Paris
X-LIC-LOCATION:Europe/Paris
BEGIN:DAYLIGHT
DTSTART:20260329T030000
TZOFFSETFROM:+0100
TZOFFSETTO:+0200
TZNAME:CEST
END:DAYLIGHT
END:VTIMEZONE
END:VCALENDAR