BEGIN:VCALENDAR
VERSION:2.0
PRODID:-//wp-events-plugin.com//7.1.7//EN
TZID:Europe/Paris
X-WR-TIMEZONE:Europe/Paris
BEGIN:VEVENT
UID:198@culture-zatous.com
DTSTART;TZID=Europe/Paris:20230411T203000
DTEND;TZID=Europe/Paris:20230411T214500
DTSTAMP:20221202T112334Z
URL:http://culture-zatous.com/?event=nos-corps-empoisonnes
SUMMARY:Nos corps empoisonnés
DESCRIPTION:Pour cette nouvelle création de Marine Bachelot Nguyen nous li
 vre un texte puissant aussi singulier que politique\, qui nous interroge s
 ur la façon dont les crimes de l’histoire viennent s’inscrire dans le
 s corps et les marquent irrémédiablement. Porté par une jeune actrice\,
  ce récit théâtral entrelace texte\, performance et images d’archives
 .\nNos corps empoisonnés nous plonge dans l’histoire de Tran To Nga\, 
 viêtnamienne engagée toute sa vie dans de multiples combats\, anti-impé
 rialistes\, féministes\, écologiques… Jeune résistante dans le maquis
  pendant la guerre du Viêtnam\, elle est exposée comme tant d’autres a
 ux épandages américains de l’agent orange. Aujourd’hui\, depuis la F
 rance\, elle mène un procès historique contre des firmes agro-industriel
 les états-uniennes\, pour dénoncer les ravages de ce poison dans les org
 anismes et la terre.
CATEGORIES:Billetterie solidaire,Théâtre
LOCATION:\, \, 
X-APPLE-STRUCTURED-LOCATION;VALUE=URI;X-ADDRESS=\, ;X-APPLE-RADIUS=100;X-TI
 TLE=:geo:0,0
END:VEVENT
BEGIN:VTIMEZONE
TZID:Europe/Paris
X-LIC-LOCATION:Europe/Paris
BEGIN:DAYLIGHT
DTSTART:20230326T030000
TZOFFSETFROM:+0100
TZOFFSETTO:+0200
TZNAME:CEST
END:DAYLIGHT
END:VTIMEZONE
END:VCALENDAR