BEGIN:VCALENDAR
VERSION:2.0
PRODID:-//wp-events-plugin.com//7.1.7//EN
TZID:Europe/Paris
X-WR-TIMEZONE:Europe/Paris
BEGIN:VEVENT
UID:1584@culture-zatous.com
DTSTART;TZID=Europe/Paris:20260504T133000
DTEND;TZID=Europe/Paris:20260504T170000
DTSTAMP:20260226T130250Z
URL:http://culture-zatous.com/?event=mission-benevolat-pour-le-festival-an
 delir
SUMMARY:Mission Bénévolat pour le Festival Andel'ir
DESCRIPTION:Dans le cadre de la préparation du Festival Andel'ir\, nous so
 uhaitons associer les structures sociales du territoire à cette dynamique
  collective. Le festival se veut un moment de rencontre\, de partage et d
 ’inclusion\, accessible à tous les publics.\nNous proposons ainsi aux s
 tructures qui le souhaitent de participer à la préparation du festival 
 à travers des missions de bénévolat adaptées (logistique\, installatio
 n \, montage\, port de charges). Cette implication peut représenter :\n\n
 \n 	\nUne opportunité de valorisation et de participation citoyenne\n\n 	
 \nUn temps d’engagement collectif favorisant la mixité et le lien socia
 l\n\n 	Une expérience concrète et enrichissante au sein d’un événeme
 nt culturel local\n\nLa mission aura lieu le lundi 4 mai l'après-midi\, e
 n amont du festival.\n\nLes bénévoles auront une place pour le festival 
 qui se déroulera le 8 et 9 mai.\n\n&nbsp\;
ATTACH;FMTTYPE=image/jpeg:http://culture-zatous.com/wp-content/uploads/202
 6/02/benevolat-festival.png
CATEGORIES:Bénévolat
END:VEVENT
BEGIN:VTIMEZONE
TZID:Europe/Paris
X-LIC-LOCATION:Europe/Paris
BEGIN:DAYLIGHT
DTSTART:20260329T030000
TZOFFSETFROM:+0100
TZOFFSETTO:+0200
TZNAME:CEST
END:DAYLIGHT
END:VTIMEZONE
END:VCALENDAR