BEGIN:VCALENDAR
VERSION:2.0
PRODID:-//wp-events-plugin.com//7.1.7//EN
TZID:Europe/Paris
X-WR-TIMEZONE:Europe/Paris
BEGIN:VEVENT
UID:1639@culture-zatous.com
DTSTART;TZID=Europe/Paris:20260513T203000
DTEND;TZID=Europe/Paris:20260513T230000
DTSTAMP:20260414T050723Z
URL:http://culture-zatous.com/?event=mickle-muckle-carnage-piknik-punk
SUMMARY:Mickle Muckle/ Carnage Piknik (Punk)
DESCRIPTION:Muisque Punk: Focus sur la nouvelle scène punk\, avec deux jeu
 nes groupes qui savent manier l’urgence et la subversion. Du punk hybrid
 é avec des accents psychédéliques et noise pour une soirée nerveuse et
  jubilatoire\, qui envoie tout valser dans un grand éclat de rire !\nMick
 le Muckle (punk psyché): Psyché nerveux ou punk minutieux\, on pourrait 
 situer Mickle Muckle entre la fureur de Idles et l’ombre de The Fall\nCa
 rnage Piknik (Punk Noise): Il y a la musique qui s’écoute et celle qui 
 se vit. C’est pour la deuxième option que Carnage Piknik a choisi d’o
 pter.\nhttps://www.youtube.com/watch?v=Fn3z4eUF5sg
ATTACH;FMTTYPE=image/jpeg:http://culture-zatous.com/wp-content/uploads/202
 6/04/mickle.jpg
CATEGORIES:Billetterie solidaire,Concert
LOCATION:Bonjour Minuit\, Place Nina Simone\, Saint-Brieuc\, 22000\, France
X-APPLE-STRUCTURED-LOCATION;VALUE=URI;X-ADDRESS=Place Nina Simone\, Saint-B
 rieuc\, 22000\, France;X-APPLE-RADIUS=100;X-TITLE=Bonjour Minuit:geo:0,0
END:VEVENT
BEGIN:VTIMEZONE
TZID:Europe/Paris
X-LIC-LOCATION:Europe/Paris
BEGIN:DAYLIGHT
DTSTART:20260329T030000
TZOFFSETFROM:+0100
TZOFFSETTO:+0200
TZNAME:CEST
END:DAYLIGHT
END:VTIMEZONE
END:VCALENDAR