BEGIN:VCALENDAR
VERSION:2.0
PRODID:-//wp-events-plugin.com//7.1.7//EN
TZID:Europe/Paris
X-WR-TIMEZONE:Europe/Paris
BEGIN:VEVENT
UID:1523@culture-zatous.com
DTSTART;TZID=Europe/Paris:20260305T200000
DTEND;TZID=Europe/Paris:20260305T214500
DTSTAMP:20251217T145142Z
URL:http://culture-zatous.com/?event=dautres-familles-que-la-mienne
SUMMARY:D'autres familles que la mienne
DESCRIPTION:Théâtre: Dans l’ombre des failles : Nora a deux mois quand 
 elle est placée en famille d’accueil\, à la suite d’un signalement p
 our maltraitance. Un départ chaotique dans la vie\, comme celui de nombre
 ux enfants confiés à l’Aide Sociale à l’Enfance (ASE). La suite l
 ’est tout autant : les placements qui se succèdent\, les foyers et pu
 is\, à 18 ans\, la rue. Un parcours fait de cassures mais aussi de rencon
 tres salvatrices\, d’amitiés profondes et même\, de joie.\n\nEstelle S
 avasta s’est nourri d’entretiens avec les protagonistes de l’ASE et 
 du travail au plateau des six comédien·ne·s\, saisissant·e·s de juste
 sse\, et dont le jeu est mis en valeur par la scénographie minimaliste et
  l’habillage musical imaginé par Ruppert Pupkin. Un hommage lumineux au
 x trajectoires qui se réinventent.\n\nConseillé à partir de 15 ans. Dur
 ée 1h45\n\nhttps://vimeo.com/1050765751?fl=pl&amp\;fe=vl
ATTACH;FMTTYPE=image/jpeg:http://culture-zatous.com/wp-content/uploads/202
 5/12/D_autres_familles_que_la_mienne_Saint-Brieuc©DanicaBijeljac.webp
CATEGORIES:Billetterie solidaire,Théâtre
LOCATION:La Passerelle\, 1\, place de la Résistance\, Saint-Brieuc\, 22000
 \, France
X-APPLE-STRUCTURED-LOCATION;VALUE=URI;X-ADDRESS=1\, place de la Résistance
 \, Saint-Brieuc\, 22000\, France;X-APPLE-RADIUS=100;X-TITLE=La Passerelle:
 geo:0,0
END:VEVENT
BEGIN:VTIMEZONE
TZID:Europe/Paris
X-LIC-LOCATION:Europe/Paris
BEGIN:STANDARD
DTSTART:20251026T020000
TZOFFSETFROM:+0200
TZOFFSETTO:+0100
TZNAME:CET
END:STANDARD
END:VTIMEZONE
END:VCALENDAR